BEGIN:VCALENDAR
VERSION:2.0
PRODID:-//DIGITAL FACTORY//EVENTS MAKER V1.6.14//EN
CALSCALE:GREGORIAN
BEGIN:VEVENT
DTEND:20241116T020000Z
UID:69e7308da9dea
DTSTAMP:20260421T080845Z
DESCRIPTION:Bring your voices\, your friends\, and your family!!!  To register for this event please purchase a ticket that will include a snack Pack
URL;VALUE=URI:https://staging.greengablesvines.ca/events-main/event/karaoke-night-at-the-vineyard/
SUMMARY:Karaoke Night at the Vineyard
DTSTART:20241115T230000Z
END:VEVENT
END:VCALENDAR
